BEGIN:VCALENDAR
VERSION:2.0
PRODID:-//Camarines Sur Polytechnic Colleges - ECPv6.3.7//NONSGML v1.0//EN
CALSCALE:GREGORIAN
METHOD:PUBLISH
X-ORIGINAL-URL:https://cspc.edu.ph
X-WR-CALDESC:Events for Camarines Sur Polytechnic Colleges
REFRESH-INTERVAL;VALUE=DURATION:PT1H
X-Robots-Tag:noindex
X-PUBLISHED-TTL:PT1H
BEGIN:VTIMEZONE
TZID:UTC
BEGIN:STANDARD
TZOFFSETFROM:+0000
TZOFFSETTO:+0000
TZNAME:UTC
DTSTART:20220101T000000
END:STANDARD
END:VTIMEZONE
BEGIN:VEVENT
DTSTART;TZID=UTC:20221012T080000
DTEND;TZID=UTC:20221207T170000
DTSTAMP:20260420T055948
CREATED:20221001T052637Z
LAST-MODIFIED:20221010T150208Z
UID:11952-1665561600-1670432400@cspc.edu.ph
SUMMARY:2022 Webinar Series on Research
DESCRIPTION:𝗔𝗟𝗟 𝗜𝗡𝗧𝗘𝗥𝗘𝗦𝗧𝗘𝗗 𝗙𝗔𝗖𝗨𝗟𝗧𝗬 𝗠𝗘𝗠𝗕𝗘𝗥𝗦 𝗔𝗡𝗗 𝗦𝗧𝗨𝗗𝗘𝗡𝗧𝗦 𝗔𝗥𝗘 𝗜𝗡𝗩𝗜𝗧𝗘𝗗! \nThrough the 𝗖𝗲𝗻𝘁𝗲𝗿 𝗳𝗼𝗿 𝗥𝗲𝘀𝗲𝗮𝗿𝗰𝗵 𝗮𝗻𝗱 𝗗𝗲𝘃𝗲𝗹𝗼𝗽𝗺𝗲𝗻𝘁\, the 𝗖𝗮𝗺𝗮𝗿𝗶𝗻𝗲𝘀 𝗦𝘂𝗿 𝗣𝗼𝗹𝘆𝘁𝗲𝗰𝗵𝗻𝗶𝗰 𝗖𝗼𝗹𝗹𝗲𝗴𝗲𝘀 invites interested participants to the 𝗪𝗲𝗯𝗶𝗻𝗮𝗿 𝗦𝗲𝗿𝗶𝗲𝘀 𝗼𝗻 𝗥𝗲𝘀𝗲𝗮𝗿𝗰𝗵 𝗮𝗻𝗱 𝗗𝗲𝘃𝗲𝗹𝗼𝗽𝗺𝗲𝗻𝘁\, which will be held via 𝗭𝗼𝗼𝗺 𝗩𝗶𝗱𝗲𝗼 𝗖𝗼𝗻𝗳𝗲𝗿𝗲𝗻𝗰𝗶𝗻𝗴 (𝗙𝗕 𝗹𝗶𝘃𝗲 𝘀𝘁𝗿𝗲𝗮𝗺𝗶𝗻𝗴) from\n𝗢𝗰𝘁𝗼𝗯𝗲𝗿 𝟭𝟮 𝘁𝗼 𝗗𝗲𝗰𝗲𝗺𝗯𝗲𝗿 𝟳\, 𝟮𝟬𝟮𝟮. \nInterested participants can sign up at\nhttps://forms.gle/x2g7Lm5pzquMrKgX7 \nFor participants from outside the institution\, 150 slots will be made available. First-come\, first-served policy will be strictly observed. \nHere are our invited speakers \n𝐃𝐫. 𝐍𝐢ñ𝐨 𝐃. 𝐍𝐚𝐥𝐝𝐨𝐳𝐚\nAssociate Professor\nDirector\, Institute of Knowledge Management\nPhilippine Normal University\n𝐑𝐞𝐬𝐞𝐚𝐫𝐜𝐡 𝐂𝐨𝐧𝐜𝐞𝐩𝐭𝐮𝐚𝐥𝐢𝐳𝐚𝐭𝐢𝐨𝐧 \n𝐓𝐅 𝐉𝐨𝐡𝐧 𝐕𝐢𝐧𝐜𝐞𝐧𝐭 𝐉. 𝐁𝐮𝐜𝐚𝐥\nTeaching Fellow\, Institute for Governance and Rural Development\, College of Public Affairs and Development\nUniversity of the Philippines Los Baños\n𝐑𝐞𝐯𝐢𝐞𝐰 𝐨𝐟 𝐑𝐞𝐥𝐚𝐭𝐞𝐝 𝐋𝐢𝐭𝐞𝐫𝐚𝐭𝐮𝐫𝐞 𝐚𝐧𝐝 𝐂𝐨𝐧𝐜𝐞𝐩𝐭𝐮𝐚𝐥 𝐅𝐫𝐚𝐦𝐞𝐰𝐨𝐫𝐤 \n𝐃𝐫. 𝐑𝐲𝐚𝐧 𝐉𝐚𝐲𝐬𝐨𝐧 𝐃𝐞𝐥𝐨𝐬 𝐑𝐞𝐲𝐞𝐬\nAssistant Professor\nActing Dean\, College of Teacher Education\nUrdaneta City University\n𝐐𝐮𝐚𝐧𝐭𝐢𝐭𝐚𝐭𝐢𝐯𝐞 𝐑𝐞𝐬𝐞𝐚𝐫𝐜𝐡 𝐃𝐞𝐬𝐢𝐠𝐧 𝐚𝐧𝐝 𝐌𝐞𝐭𝐡𝐨𝐝𝐬 \n𝐃𝐫. 𝐈𝐯𝐲 𝐂𝐨𝐫𝐚𝐳𝐨𝐧 𝐀. 𝐌𝐚𝐧𝐠𝐚𝐲𝐚-𝐚𝐲\nAssociate Professor\nFaculty Regent and University Statistician\nBohol Island State University\n𝐒𝐭𝐚𝐭𝐢𝐬𝐭𝐢𝐜𝐚𝐥 𝐓𝐨𝐨𝐥𝐬 𝐚𝐧𝐝 𝐓𝐞𝐜𝐡𝐧𝐢𝐪𝐮𝐞𝐬 𝐢𝐧 𝐑𝐞𝐬𝐞𝐚𝐫𝐜𝐡 \n𝐀𝐭𝐭𝐲. 𝐒𝐡𝐞𝐞𝐧𝐚 𝐌𝐚𝐢 𝐀. 𝐆𝐚𝐥𝐦𝐚𝐧\, 𝐏𝐡.𝐃.\nAssociate Professor\nChairperson\, BSED and BPED Programs\nNueva Ecija University of Science and Technology\n𝐖𝐫𝐢𝐭𝐢𝐧𝐠 𝐭𝐡𝐞 𝐑𝐞𝐬𝐮𝐥𝐭𝐬\, 𝐃𝐢𝐬𝐜𝐮𝐬𝐬𝐢𝐨𝐧 𝐚𝐧𝐝 𝐂𝐨𝐧𝐜𝐥𝐮𝐬𝐢𝐨𝐧 \n𝐃𝐫. 𝐅𝐞𝐫𝐝𝐢𝐧𝐚𝐧𝐝 𝐁𝐮𝐥𝐮𝐬𝐚𝐧\nAssociate Professor\nUniversity Education and Research Consultant\nBatanes State College\n𝐐𝐮𝐚𝐥𝐢𝐭𝐚𝐭𝐢𝐯𝐞 𝐑𝐞𝐬𝐞𝐚𝐫𝐜𝐡 𝐃𝐞𝐬𝐢𝐠𝐧 𝐚𝐧𝐝 𝐌𝐞𝐭𝐡𝐨𝐝𝐬 \n𝐏𝐫𝐨𝐟. 𝐙𝐚𝐫𝐫𝐞𝐧 𝐀𝐥𝐞𝐭𝐚 𝐆𝐚𝐝𝐝𝐢\nResearch Coordinator\nSan Felipe Neri Catholic School\n𝐀𝐜𝐭𝐢𝐨𝐧 𝐑𝐞𝐬𝐞𝐚𝐫𝐜𝐡 𝐚𝐧𝐝 𝐈𝐧𝐬𝐭𝐫𝐮𝐜𝐭𝐢𝐨𝐧𝐚𝐥 𝐃𝐞𝐬𝐢𝐠𝐧 \n𝐌𝐬. 𝐍𝐢ñ𝐚 𝐕𝐢𝐜𝐭𝐨𝐫𝐢𝐨-𝐁𝐮𝐞𝐧𝐚𝐛𝐚𝐣𝐨\nProfessional and Education Services Consultant\nTurnitin Philippines\n𝐓𝐮𝐫𝐧𝐢𝐭𝐢𝐧 (𝐀𝐧𝐭𝐢-𝐏𝐥𝐚𝐠𝐢𝐚𝐫𝐢𝐬𝐦 𝐒𝐨𝐟𝐭𝐰𝐚𝐫𝐞) \n𝐄𝐧𝐠𝐫. 𝐇𝐚𝐫𝐨𝐥𝐝 𝐉𝐚𝐧 𝐑. 𝐓𝐞𝐫𝐚𝐧𝐨\nFull Professor\nDirector\, Center for Research and Development\nCamarines Sur Polytechnic Colleges\n𝐑𝐞𝐬𝐞𝐚𝐫𝐜𝐡 𝐏𝐮𝐛𝐥𝐢𝐜𝐚𝐭𝐢𝐨𝐧 𝐭𝐨 𝐑𝐞𝐩𝐮𝐭𝐚𝐛𝐥𝐞 𝐉𝐨𝐮𝐫𝐧𝐚𝐥𝐬
URL:https://cspc.edu.ph/events/2022-webinar-series-on-research/
LOCATION:Zoom Video Conference
END:VEVENT
END:VCALENDAR