BEGIN:VCALENDAR
VERSION:2.0
PRODID:-//Camarines Sur Polytechnic Colleges - ECPv6.3.7//NONSGML v1.0//EN
CALSCALE:GREGORIAN
METHOD:PUBLISH
X-ORIGINAL-URL:https://cspc.edu.ph
X-WR-CALDESC:Events for Camarines Sur Polytechnic Colleges
REFRESH-INTERVAL;VALUE=DURATION:PT1H
X-Robots-Tag:noindex
X-PUBLISHED-TTL:PT1H
BEGIN:VTIMEZONE
TZID:UTC
BEGIN:STANDARD
TZOFFSETFROM:+0000
TZOFFSETTO:+0000
TZNAME:UTC
DTSTART:20220101T000000
END:STANDARD
END:VTIMEZONE
BEGIN:VEVENT
DTSTART;TZID=UTC:20220620T080000
DTEND;TZID=UTC:20220624T170000
DTSTAMP:20260420T144153
CREATED:20220620T015629Z
LAST-MODIFIED:20220620T015629Z
UID:11541-1655712000-1656090000@cspc.edu.ph
SUMMARY:AACCUP Virtual Preliminary Survey Visit (BLIS\, BS Math\, AB English)
DESCRIPTION:AACCUP Virtual Preliminary Survey Visit of the following programs: \n\nBachelor of Library Information Science\nBachelor of Science in Mathematics\nBachelor of Arts in English Language\n\nThe visit will be happening at the College Auditorium and via Zoom video conference from June 20-24\, 2022.
URL:https://cspc.edu.ph/events/aaccup-virtual-preliminary-survey-visit-blis-bs-math-ab-english/
LOCATION:College Auditorium\, Camarines Sur Polytechnic Colleges\, Nabua\, Camarines Sur\, 4434\, Philippines
ATTACH;FMTTYPE=image/jpeg:https://cspc.edu.ph/wp-content/uploads/2022/03/cspc-blue-2-scaled.jpg
END:VEVENT
END:VCALENDAR